BEGIN:VCALENDAR
VERSION:2.0
PRODID:-//Godly Play Nederland - ECPv6.15.20//NONSGML v1.0//EN
CALSCALE:GREGORIAN
METHOD:PUBLISH
X-ORIGINAL-URL:https://www.godlyplay.nl
X-WR-CALDESC:Evenementen voor Godly Play Nederland
REFRESH-INTERVAL;VALUE=DURATION:PT1H
X-Robots-Tag:noindex
X-PUBLISHED-TTL:PT1H
BEGIN:VTIMEZONE
TZID:Europe/Amsterdam
BEGIN:DAYLIGHT
TZOFFSETFROM:+0100
TZOFFSETTO:+0200
TZNAME:CEST
DTSTART:20220327T010000
END:DAYLIGHT
BEGIN:STANDARD
TZOFFSETFROM:+0200
TZOFFSETTO:+0100
TZNAME:CET
DTSTART:20221030T010000
END:STANDARD
BEGIN:DAYLIGHT
TZOFFSETFROM:+0100
TZOFFSETTO:+0200
TZNAME:CEST
DTSTART:20230326T010000
END:DAYLIGHT
BEGIN:STANDARD
TZOFFSETFROM:+0200
TZOFFSETTO:+0100
TZNAME:CET
DTSTART:20231029T010000
END:STANDARD
BEGIN:DAYLIGHT
TZOFFSETFROM:+0100
TZOFFSETTO:+0200
TZNAME:CEST
DTSTART:20240331T010000
END:DAYLIGHT
BEGIN:STANDARD
TZOFFSETFROM:+0200
TZOFFSETTO:+0100
TZNAME:CET
DTSTART:20241027T010000
END:STANDARD
END:VTIMEZONE
BEGIN:VEVENT
DTSTART;TZID=Europe/Amsterdam:20230620T170000
DTEND;TZID=Europe/Amsterdam:20230620T210000
DTSTAMP:20260420T052259
CREATED:20230512T172417Z
LAST-MODIFIED:20230512T172420Z
UID:10000081-1687280400-1687294800@www.godlyplay.nl
SUMMARY:Regiokring Noord Holland
DESCRIPTION:Naast het delen van ervaringen is er een thema uitgekozen: De schepping\, in de at home versie. \n\n\n\nGodly Play thuis. Het is een mooie manier om de verhalen van Godly Play thuis te vertellen. Het wil familiebanden verstevigen en familieverhalen met Bijbelverhalen verbinden. Het wil kinderen weerbaar maken om in het leven te staan door ze verhalen mee te geven. \n\n\n\nBij de Godly Play verhalen in de at home-versie horen andere verwonderingsvragen. (lees meer: https://www.godlyplay.nl/thuis-verhalen-delen/) \n\n\n\nOp deze avond maken we daar kennis mee\, met het waarom\, en we maken zelf het materiaal wat erbij hoort: een kleine versie van de schepping. \n\n\n\nHet verhaal van de schepping van GP at home kan prachtig door ouders meegenomen worden tijdens de zomervakantie.  Op de camping\, in de achtertuin\, of tijdens een bos- of strandwandeling even samen zitten\, etc…één van de platen centraal stellen en verhalen delen… \n\n\n\nMet de materialen die je na deze avond direct toegestuurd krijgt kun je een impuls geven aan de verhalen thuis. Ben je dit van plan dan is het misschien goed om daar op voorhand in je planning al rekening mee te houden: * een ouderavond plannen…\,/* een koffiemoment voor ouders na de dienst…\,/* in het kerknieuws vertellen dat kinderen/ouders dit mee (kunnen) krijgen…. \n\n\n\nIedereen is van harte welkom! Zowel getrainde vertellers als mensen die de Introductiedag gedaan hebben. En neem vooral introducees mee!We eten samen brood\, neem je eigen pakje boterhammen mee? Wij zorgen voor soep en een krentenbol. \n\n\n\nContactpersonen: Peter van der Zalm-van der Beek en Irma Visser. \n\n\n\nAanmelding via: pvdzalmvdbeek@icloud.com \n\n\n\nKosten: € 7\,50 voor het vertelmateriaal.
URL:https://www.godlyplay.nl/event/regiokring-noord-holland-3/
END:VEVENT
END:VCALENDAR