BEGIN:VCALENDAR
VERSION:2.0
PRODID:-//Godly Play Nederland - ECPv6.15.20//NONSGML v1.0//EN
CALSCALE:GREGORIAN
METHOD:PUBLISH
X-WR-CALNAME:Godly Play Nederland
X-ORIGINAL-URL:https://www.godlyplay.nl
X-WR-CALDESC:Evenementen voor Godly Play Nederland
REFRESH-INTERVAL;VALUE=DURATION:PT1H
X-Robots-Tag:noindex
X-PUBLISHED-TTL:PT1H
BEGIN:VTIMEZONE
TZID:Europe/Amsterdam
BEGIN:DAYLIGHT
TZOFFSETFROM:+0100
TZOFFSETTO:+0200
TZNAME:CEST
DTSTART:20240331T010000
END:DAYLIGHT
BEGIN:STANDARD
TZOFFSETFROM:+0200
TZOFFSETTO:+0100
TZNAME:CET
DTSTART:20241027T010000
END:STANDARD
BEGIN:DAYLIGHT
TZOFFSETFROM:+0100
TZOFFSETTO:+0200
TZNAME:CEST
DTSTART:20250330T010000
END:DAYLIGHT
BEGIN:STANDARD
TZOFFSETFROM:+0200
TZOFFSETTO:+0100
TZNAME:CET
DTSTART:20251026T010000
END:STANDARD
BEGIN:DAYLIGHT
TZOFFSETFROM:+0100
TZOFFSETTO:+0200
TZNAME:CEST
DTSTART:20260329T010000
END:DAYLIGHT
BEGIN:STANDARD
TZOFFSETFROM:+0200
TZOFFSETTO:+0100
TZNAME:CET
DTSTART:20261025T010000
END:STANDARD
END:VTIMEZONE
BEGIN:VEVENT
DTSTART;TZID=Europe/Amsterdam:20251114T160000
DTEND;TZID=Europe/Amsterdam:20251114T190000
DTSTAMP:20260423T060515
CREATED:20251016T130105Z
LAST-MODIFIED:20251016T130109Z
UID:10000134-1763136000-1763146800@www.godlyplay.nl
SUMMARY:Infomarkt in het Sint Janscentrum in Den Bosch
DESCRIPTION:Infomarkt voor katholieke werkers in het veld. Godly Play presenteert zich in een van de kraampjes\, met informatie en vertelmateriaal
URL:https://www.godlyplay.nl/event/infomarkt-in-het-sint-janscentrum-in-den-bosch/
LOCATION:Sint Janscentrum\, Papenhulst 4\, Den Bosch\, Noord-Brabant\, 5211LC\, Netherlands
END:VEVENT
END:VCALENDAR